BEGIN:VCALENDAR
VERSION:2.0
PRODID:-//Copiah-Lincoln Community College - ECPv6.15.17.1//NONSGML v1.0//EN
CALSCALE:GREGORIAN
METHOD:PUBLISH
X-WR-CALNAME:Copiah-Lincoln Community College
X-ORIGINAL-URL:https://www.colin.edu
X-WR-CALDESC:Events for Copiah-Lincoln Community College
REFRESH-INTERVAL;VALUE=DURATION:PT1H
X-Robots-Tag:noindex
X-PUBLISHED-TTL:PT1H
BEGIN:VTIMEZONE
TZID:America/Chicago
BEGIN:DAYLIGHT
TZOFFSETFROM:-0600
TZOFFSETTO:-0500
TZNAME:CDT
DTSTART:20250309T080000
END:DAYLIGHT
BEGIN:STANDARD
TZOFFSETFROM:-0500
TZOFFSETTO:-0600
TZNAME:CST
DTSTART:20251102T070000
END:STANDARD
BEGIN:DAYLIGHT
TZOFFSETFROM:-0600
TZOFFSETTO:-0500
TZNAME:CDT
DTSTART:20260308T080000
END:DAYLIGHT
BEGIN:STANDARD
TZOFFSETFROM:-0500
TZOFFSETTO:-0600
TZNAME:CST
DTSTART:20261101T070000
END:STANDARD
BEGIN:DAYLIGHT
TZOFFSETFROM:-0600
TZOFFSETTO:-0500
TZNAME:CDT
DTSTART:20270314T080000
END:DAYLIGHT
BEGIN:STANDARD
TZOFFSETFROM:-0500
TZOFFSETTO:-0600
TZNAME:CST
DTSTART:20271107T070000
END:STANDARD
END:VTIMEZONE
BEGIN:VEVENT
DTSTART;TZID=America/Chicago:20260513T100000
DTEND;TZID=America/Chicago:20260513T103000
DTSTAMP:20260421T110059
CREATED:20251119T213234Z
LAST-MODIFIED:20251119T213234Z
UID:10000057-1778666400-1778668200@www.colin.edu
SUMMARY:Simpson County Center Graduation
DESCRIPTION:Spring 2026 graduation for the Simpson County Center will be held on Wednesday\, May 13\, 2026 at 10:00 a.m.
URL:https://www.colin.edu/events/simpson-county-center-graduation-2/
LOCATION:Boswell Regional Center\, 1049 Simpson Hwy 149\, Magee\, MS\, 39111\, United States
END:VEVENT
END:VCALENDAR